BEGIN:VCALENDAR
PRODID:http://wibix.de/infusions/pro_download_panel/download.php?did=27
VERSION:2.0
METHOD:PUBLISH
BEGIN:VEVENT
DTSTART:20160421T220000Z
UID:81@http://zszalno.las.pl/
DTSTAMP:20160419T151730Z
DESCRIPTION:Zawody odbędą się w Kamieniu Krajeńskim
SUMMARY:II etap eliminacyjny Ogólnopolskiego Turnieju Piłki Nożnej COCA-COLA CUP 2016
CLASS:PUBLIC
END:VEVENT
END:VCALENDAR
