BEGIN:VCALENDAR
PRODID:http://wibix.de/infusions/pro_download_panel/download.php?did=27
VERSION:2.0
METHOD:PUBLISH
BEGIN:VEVENT
DTSTART:20160510T220000Z
UID:80@http://zszalno.las.pl/
DTSTAMP:20160411T134402Z
DESCRIPTION:wyjazd klasy II gimnazjum do Kęsowa
SUMMARY:Asertywne zmagania
CLASS:PUBLIC
END:VEVENT
END:VCALENDAR
