BEGIN:VCALENDAR
PRODID:http://wibix.de/infusions/pro_download_panel/download.php?did=27
VERSION:2.0
METHOD:PUBLISH
BEGIN:VEVENT
DTSTART:20160320T230000Z
UID:78@http://zszalno.las.pl/
DTSTAMP:20160317T074158Z
DESCRIPTION:I etap eliminacji Ogólnopolskiego Turnieju Piłkarskiego COCA-COLA CUP 2016, gospodarz turnieju- UKS &quot;Poraj&quot; Żalno
SUMMARY:I etap COCA-COLA CUP 2016
CLASS:PUBLIC
END:VEVENT
END:VCALENDAR
