BEGIN:VCALENDAR
PRODID:http://wibix.de/infusions/pro_download_panel/download.php?did=27
VERSION:2.0
METHOD:PUBLISH
BEGIN:VEVENT
DTSTART:20160415T220000Z
UID:77@http://zszalno.las.pl/
DTSTAMP:20160314T142741Z
DESCRIPTION:konkurs dla gimnazjalistów\nod 9.00 do 11.00
SUMMARY:II powiatowy konkurs interdyscyplinarny &quot;A to Polska właśnie&quot;
CLASS:PUBLIC
END:VEVENT
END:VCALENDAR
