BEGIN:VCALENDAR
PRODID:http://wibix.de/infusions/pro_download_panel/download.php?did=27
VERSION:2.0
METHOD:PUBLISH
BEGIN:VEVENT
DTSTART:20160623T220000Z
UID:76@http://zszalno.las.pl/
DTSTAMP:20160313T085232Z
DESCRIPTION:Zakończenie rocznych zajęć dydaktyczno-wychowawczych
SUMMARY:Zakończenie rocznych zajęć
CLASS:PUBLIC
END:VEVENT
END:VCALENDAR
