BEGIN:VCALENDAR
PRODID:http://wibix.de/infusions/pro_download_panel/download.php?did=27
VERSION:2.0
METHOD:PUBLISH
BEGIN:VEVENT
DTSTART:20160418T220000Z
UID:74@http://zszalno.las.pl/
DTSTAMP:20160313T084952Z
DESCRIPTION:Egzamin gimnazjalny - część matematyczno-przyrodnicza
SUMMARY:Egzamin gimnazjalny
CLASS:PUBLIC
END:VEVENT
END:VCALENDAR
