BEGIN:VCALENDAR
PRODID:http://wibix.de/infusions/pro_download_panel/download.php?did=27
VERSION:2.0
METHOD:PUBLISH
BEGIN:VEVENT
DTSTART:20160417T220000Z
UID:73@http://zszalno.las.pl/
DTSTAMP:20160313T084905Z
DESCRIPTION:Egzamin gimnazjalny - część humanistyczna
SUMMARY:Egzamin gimnazjalny
CLASS:PUBLIC
END:VEVENT
END:VCALENDAR
