BEGIN:VCALENDAR
PRODID:http://wibix.de/infusions/pro_download_panel/download.php?did=27
VERSION:2.0
METHOD:PUBLISH
BEGIN:VEVENT
DTSTART:20160404T220000Z
UID:72@http://zszalno.las.pl/
DTSTAMP:20160313T084813Z
DESCRIPTION:Sprawdzian przeprowadzany w ostatnim roku\nnauki w szkole podstawowej.
SUMMARY:Sprawdzian po 6 klasie
CLASS:PUBLIC
END:VEVENT
END:VCALENDAR
