BEGIN:VCALENDAR
PRODID:http://wibix.de/infusions/pro_download_panel/download.php?did=27
VERSION:2.0
METHOD:PUBLISH
BEGIN:VEVENT
DTSTART:20160316T230000Z
UID:71@http://zszalno.las.pl/
DTSTAMP:20160312T193644Z
DESCRIPTION:Saint Patrick&#39;s Day
SUMMARY:Saint Patrick&#39;s Day
CLASS:PUBLIC
END:VEVENT
END:VCALENDAR
