BEGIN:VCALENDAR
PRODID:http://wibix.de/infusions/pro_download_panel/download.php?did=27
VERSION:2.0
METHOD:PUBLISH
BEGIN:VEVENT
DTSTART:20160315T230000Z
UID:68@http://zszalno.las.pl/
DTSTAMP:20160309T120446Z
DESCRIPTION:Rekolekcje Wielkopostne
SUMMARY:Rekolekcje Wielkopostne
CLASS:PUBLIC
END:VEVENT
END:VCALENDAR
