BEGIN:VCALENDAR
PRODID:http://wibix.de/infusions/pro_download_panel/download.php?did=27
VERSION:2.0
METHOD:PUBLISH
BEGIN:VEVENT
DTSTART:20160304T230000Z
UID:66@http://zszalno.las.pl/
DTSTAMP:20160223T200031Z
DESCRIPTION:GODZINA 9:00 ROZSTRZYGNIĘCIE KONKURSU ORAZ WARSZTATY JĘZYKOWE DLA UCZESTNIKÓW
SUMMARY:Gala  MINI FALSE FRIENDS DICTIONARY
CLASS:PUBLIC
END:VEVENT
END:VCALENDAR
