BEGIN:VCALENDAR
PRODID:http://wibix.de/infusions/pro_download_panel/download.php?did=27
VERSION:2.0
METHOD:PUBLISH
BEGIN:VEVENT
DTSTART:20160226T230000Z
UID:65@http://zszalno.las.pl/
DTSTAMP:20160221T212547Z
DESCRIPTION:Liga zadaniowa SP
SUMMARY:Liga zadaniowa SP
CLASS:PUBLIC
END:VEVENT
END:VCALENDAR
