BEGIN:VCALENDAR
PRODID:http://wibix.de/infusions/pro_download_panel/download.php?did=27
VERSION:2.0
METHOD:PUBLISH
BEGIN:VEVENT
DTSTART:20160401T220000Z
UID:64@http://zszalno.las.pl/
DTSTAMP:20160221T212137Z
DESCRIPTION:Liga zadaniowa gim.
SUMMARY:Liga zadaniowa gim.
CLASS:PUBLIC
END:VEVENT
END:VCALENDAR
