BEGIN:VCALENDAR
PRODID:http://wibix.de/infusions/pro_download_panel/download.php?did=27
VERSION:2.0
METHOD:PUBLISH
BEGIN:VEVENT
DTSTART:20160317T080000Z
UID:63@http://zszalno.las.pl/
DTSTAMP:20160219T185834Z
DESCRIPTION:Kangur matematyczny
SUMMARY:Kangur matematyczny
CLASS:PUBLIC
END:VEVENT
END:VCALENDAR
