BEGIN:VCALENDAR
PRODID:http://wibix.de/infusions/pro_download_panel/download.php?did=27
VERSION:2.0
METHOD:PUBLISH
BEGIN:VEVENT
DTSTART:20160303T230000Z
UID:62@http://zszalno.las.pl/
DTSTAMP:20160217T110542Z
DESCRIPTION:TURNIEJ WIEDZY ODBĘDZIE SIĘ W DWÓCH KATEGORIACH: SZKOŁY PODSTAWOWE I GIMNAZJA. \nPOCZĄTEK O GODZ. 10:00\nOPIEKUN: MIROSŁAW BRZEZIŃSKI
SUMMARY:TURNIEJ WIEDZY POŻARNICZEJ W KĘSOWIE
CLASS:PUBLIC
END:VEVENT
END:VCALENDAR
