BEGIN:VCALENDAR
PRODID:http://wibix.de/infusions/pro_download_panel/download.php?did=27
VERSION:2.0
METHOD:PUBLISH
BEGIN:VEVENT
DTSTART:20160217T230000Z
UID:59@http://zszalno.las.pl/
DTSTAMP:20160216T140632Z
DESCRIPTION:Praca klasowa z matematyki - Figury geometryczne
SUMMARY:IV
CLASS:PUBLIC
END:VEVENT
END:VCALENDAR
